BEGIN:VCALENDAR
VERSION:2.0
PRODID:-//Ville de Bétheny - ECPv6.13.2.1//NONSGML v1.0//EN
CALSCALE:GREGORIAN
METHOD:PUBLISH
X-WR-CALNAME:Ville de Bétheny
X-ORIGINAL-URL:https://ville-betheny.fr
X-WR-CALDESC:Évènements pour Ville de Bétheny
REFRESH-INTERVAL;VALUE=DURATION:PT1H
X-Robots-Tag:noindex
X-PUBLISHED-TTL:PT1H
BEGIN:VTIMEZONE
TZID:Europe/Paris
BEGIN:DAYLIGHT
TZOFFSETFROM:+0100
TZOFFSETTO:+0200
TZNAME:CEST
DTSTART:20260329T010000
END:DAYLIGHT
BEGIN:STANDARD
TZOFFSETFROM:+0200
TZOFFSETTO:+0100
TZNAME:CET
DTSTART:20261025T010000
END:STANDARD
END:VTIMEZONE
BEGIN:VEVENT
DTSTART;TZID=Europe/Paris:20260401T140000
DTEND;TZID=Europe/Paris:20260520T153000
DTSTAMP:20260420T062008
CREATED:20260323T131038Z
LAST-MODIFIED:20260402T114957Z
UID:5520-1775052000-1779291000@ville-betheny.fr
SUMMARY:L'atelier des petits écrivains (COMPLET)
DESCRIPTION:La médiathèque propose un atelier créatif pour les enfants de 8 à 10 ans : l’Atelier des petits écrivains. \nSur six séances\, les participants écriront ensemble une histoire\, l’illustreront et en feront un livre\, qui sera ensuite disponible à l’emprunt à la médiathèque. \nDates des séances : \n\n18 mars : Séance de présentation du projet et jeux\n1er avril : Entrer dans l’univers du livre\n8 avril : Imaginer et construire une histoire\n29 avril : Donner vie à l’histoire\n6 mai : Mettre l’histoire en images\n13 mai : Assembler et finaliser le livre\n20 mai : Présentation finale aux familles\n\nUne belle aventure littéraire à partager\, avec une présentation finale le 20 mai pour célébrer la création collective ! \n\nInformations pratiques : \n\nPublic : Enfants de 8 à 10 ans\nLieu : Médiathèque\nInscription obligatoire en ligne ICI (places limitées)\n\n 
URL:https://ville-betheny.fr/evenement/latelier-des-petits-ecrivains/
LOCATION:Médiathèque\, 10 Rue Farman\, Bétheny\, 51450\, France
CATEGORIES:Moments partagés
ATTACH;FMTTYPE=image/png:https://ville-betheny.fr/wp-content/uploads/2026/03/latelier-des-petits-ecrivains-v2.avif
END:VEVENT
BEGIN:VEVENT
DTSTART;TZID=Europe/Paris:20260421T153000
DTEND;TZID=Europe/Paris:20260421T193000
DTSTAMP:20260420T062008
CREATED:20260402T125313Z
LAST-MODIFIED:20260402T125313Z
UID:5573-1776785400-1776799800@ville-betheny.fr
SUMMARY:Don du sang
DESCRIPTION:Chaque jour\, des patients en ont besoin pour des urgences\, des opérations ou des traitements. Les réserves sont basses\, votre don compte plus que jamais !\n\n\n\nParking gratuit et Ligne U22 – Arrêt Thierry Meng\n\n\n\nInscrivez vous pour éviter l’attente ICI\nVous pouvez également venir sans être inscrit.\n\n\n\nOn compte sur vous !
URL:https://ville-betheny.fr/evenement/don-du-sang/
LOCATION:Espace Thierry Meng\, Bétheny
CATEGORIES:Solidarité
ATTACH;FMTTYPE=image/png:https://ville-betheny.fr/wp-content/uploads/2026/04/don-du-sang-21-avril-26.avif
END:VEVENT
BEGIN:VEVENT
DTSTART;TZID=Europe/Paris:20260424T093000
DTEND;TZID=Europe/Paris:20260424T100000
DTSTAMP:20260420T062008
CREATED:20260416T071032Z
LAST-MODIFIED:20260416T071032Z
UID:5677-1777023000-1777024800@ville-betheny.fr
SUMMARY:Le Temps des bébés
DESCRIPTION:Histoires\, comptines et jeux de doigts pour les tout-petits. \nDe 6 mois jusqu’à 3 ans \nUn seul accompagnant possible \nRéservation obligatoire en cliquant ICI 
URL:https://ville-betheny.fr/evenement/le-temps-des-bebes/
LOCATION:Médiathèque\, 10 Rue Farman\, Bétheny\, 51450\, France
CATEGORIES:Petite Enfance
ATTACH;FMTTYPE=image/png:https://ville-betheny.fr/wp-content/uploads/2026/02/le-temps-bebe-2026-affiche-a4.avif
END:VEVENT
BEGIN:VEVENT
DTSTART;TZID=Europe/Paris:20260424T100000
DTEND;TZID=Europe/Paris:20260424T120000
DTSTAMP:20260420T062008
CREATED:20260223T154456Z
LAST-MODIFIED:20260402T121155Z
UID:5398-1777024800-1777032000@ville-betheny.fr
SUMMARY:P'tit déj presse
DESCRIPTION:Venez lire le journal\, discuter de l’actualité avec un café et un croissant à l’InterGé ! \nPour ce mois de mars\, le thème de la matinée sera\, les grandes affaires criminelles des dix dernières années. \nExposition éphémère de journaux anciens commentée à 10h30 par Patrick Maingault \nEntrée libre
URL:https://ville-betheny.fr/evenement/ptit-dej-presse-3/
LOCATION:InterGé – Esplanade de la Solidarité
CATEGORIES:Moments partagés
ATTACH;FMTTYPE=image/png:https://ville-betheny.fr/wp-content/uploads/2025/08/ptit-dej-presse.avif
END:VEVENT
BEGIN:VEVENT
DTSTART;TZID=Europe/Paris:20260428T140000
DTEND;TZID=Europe/Paris:20260428T170000
DTSTAMP:20260420T062008
CREATED:20260402T125610Z
LAST-MODIFIED:20260402T125610Z
UID:5577-1777384800-1777395600@ville-betheny.fr
SUMMARY:Découverte - La boite mails
DESCRIPTION:Notre conseiller numérique vous attend pour des ateliers conviviaux et interactifs. \nQue vous soyez débutant ou expert\, inscrivez-vous et plongez dans le monde numérique ! \nChacun apporte son matériel. \n 
URL:https://ville-betheny.fr/evenement/decouverte-la-boite-mails/
LOCATION:Espace Famille\, 44 Route de Bétheny\, Bétheny\, 51450\, France
CATEGORIES:Ateliers numériques
ATTACH;FMTTYPE=image/png:https://ville-betheny.fr/wp-content/uploads/2025/08/logo-conseiller-numerique-256px.avif
END:VEVENT
BEGIN:VEVENT
DTSTART;TZID=Europe/Paris:20260504T140000
DTEND;TZID=Europe/Paris:20260506T170000
DTSTAMP:20260420T062008
CREATED:20260402T130454Z
LAST-MODIFIED:20260402T132035Z
UID:5589-1777903200-1778086800@ville-betheny.fr
SUMMARY:Faire des achats sur internet
DESCRIPTION:Notre conseiller numérique vous attend pour des ateliers conviviaux et interactifs. \nQue vous soyez débutant ou expert\, inscrivez-vous et plongez dans le monde numérique ! \nChacun apporte son matériel. \nLieux :  \n\nEspace Famille – 4 mai\nMairie – 6 mai
URL:https://ville-betheny.fr/evenement/faire-des-achats-sur-internet/
CATEGORIES:Ateliers numériques
ATTACH;FMTTYPE=image/png:https://ville-betheny.fr/wp-content/uploads/2025/08/logo-conseiller-numerique-256px.avif
END:VEVENT
BEGIN:VEVENT
DTSTART;TZID=Europe/Paris:20260508T110000
DTEND;TZID=Europe/Paris:20260508T123000
DTSTAMP:20260420T062008
CREATED:20260415T122209Z
LAST-MODIFIED:20260415T122209Z
UID:5653-1778238000-1778243400@ville-betheny.fr
SUMMARY:Commémoration de l'armistice du 8 mai 1945
DESCRIPTION:11h15 : Dépôt d’une gerbe à la mairie-Annexe du Petit-Bétheny\n11h30 : Rassemblement devant la mairie – Défilé et cérémonie au monument aux morts\n\nLa cérémonie sera suivie du verre de l’amitié.
URL:https://ville-betheny.fr/evenement/commemoration-de-larmistice-du-8-mai-1945/
LOCATION:Bétheny\, Bétheny
CATEGORIES:Moments partagés
ATTACH;FMTTYPE=image/jpeg:https://ville-betheny.fr/wp-content/uploads/2024/11/adobestock-137806871-preview-e1756152260702.jpeg
END:VEVENT
BEGIN:VEVENT
DTSTART;TZID=Europe/Paris:20260512T140000
DTEND;TZID=Europe/Paris:20260512T170000
DTSTAMP:20260420T062008
CREATED:20260402T125714Z
LAST-MODIFIED:20260402T125714Z
UID:5579-1778594400-1778605200@ville-betheny.fr
SUMMARY:Découverte - Les démarches en ligne
DESCRIPTION:Notre conseiller numérique vous attend pour des ateliers conviviaux et interactifs. \nQue vous soyez débutant ou expert\, inscrivez-vous et plongez dans le monde numérique ! \nChacun apporte son matériel. \n 
URL:https://ville-betheny.fr/evenement/decouverte-les-demarches-en-ligne/
LOCATION:Espace Famille\, 44 Route de Bétheny\, Bétheny\, 51450\, France
CATEGORIES:Ateliers numériques
ATTACH;FMTTYPE=image/png:https://ville-betheny.fr/wp-content/uploads/2025/08/logo-conseiller-numerique-256px.avif
END:VEVENT
BEGIN:VEVENT
DTSTART;TZID=Europe/Paris:20260516T080000
DTEND;TZID=Europe/Paris:20260517T170000
DTSTAMP:20260420T062008
CREATED:20260415T125438Z
LAST-MODIFIED:20260415T125438Z
UID:5655-1778918400-1779037200@ville-betheny.fr
SUMMARY:Breizh en champagne - 2026
DESCRIPTION:La fête de la Bretagne revient au mois de mai à Bétheny ! \nVenez célébrer la Bretagne le week-end du 16 et 17 mai ! \nNouveauté cette année : marché artisanal et exposition de costumes. \nPetite restauration & buvette sur place. \nRetrouvez également le Fest-noz le samedi 16 mai de 20h30 à minuit. (réservation obligatoire) \n \n\nInformations & réservation pour le Fest-Noz :  \n\ncourriel : bzh.champagne@gmail.com\nTéléphone : 07 68 97 41 56\n\nRèglement par chèque à envoyer à : Breizh en Champagne\, 19 allée du Tourizet\, 51450 Bétheny \nou \nRéservation en ligne ICI  \n 
URL:https://ville-betheny.fr/evenement/breizh-en-champagne-2026/
LOCATION:Espace Thierry Meng\, Bétheny
CATEGORIES:Association
ATTACH;FMTTYPE=image/jpeg:https://ville-betheny.fr/wp-content/uploads/2026/04/diapositive1.avif
ORGANIZER;CN="Breizh en Champagne":MAILTO:bzh.champagne@gmail.com
END:VEVENT
BEGIN:VEVENT
DTSTART;TZID=Europe/Paris:20260517T100000
DTEND;TZID=Europe/Paris:20260517T150000
DTSTAMP:20260420T062008
CREATED:20260415T130807Z
LAST-MODIFIED:20260415T130807Z
UID:5664-1779012000-1779030000@ville-betheny.fr
SUMMARY:Contre la montre champenois - 2026
DESCRIPTION:Dimanche 17 mai aura lieu le traditionnel contre la montre champenois Femmes et Hommes organisé par Bétheny Sports Evenements. \nUn circuit de près de 38\,4km. \n1er départ à 10h15 à Bétheny.
URL:https://ville-betheny.fr/evenement/contre-la-montre-champenois-2026/
LOCATION:Bétheny\, Bétheny
CATEGORIES:Association
ATTACH;FMTTYPE=image/jpeg:https://ville-betheny.fr/wp-content/uploads/2026/04/betheny-sport-evenement-contre-montre-champenois-2026.avif
END:VEVENT
BEGIN:VEVENT
DTSTART;TZID=Europe/Paris:20260518T140000
DTEND;TZID=Europe/Paris:20260520T170000
DTSTAMP:20260420T062008
CREATED:20260402T132140Z
LAST-MODIFIED:20260402T132140Z
UID:5591-1779112800-1779296400@ville-betheny.fr
SUMMARY:Protéger ses mots de passe
DESCRIPTION:Notre conseiller numérique vous attend pour des ateliers conviviaux et interactifs. \nQue vous soyez débutant ou expert\, inscrivez-vous et plongez dans le monde numérique ! \nChacun apporte son matériel. \nLieux :  \n\nEspace Famille – 18 mai\nMairie – 20 mai
URL:https://ville-betheny.fr/evenement/proteger-ses-mots-de-passe/
CATEGORIES:Ateliers numériques
ATTACH;FMTTYPE=image/png:https://ville-betheny.fr/wp-content/uploads/2025/08/logo-conseiller-numerique-256px.avif
END:VEVENT
BEGIN:VEVENT
DTSTART;VALUE=DATE:20260523
DTEND;VALUE=DATE:20260525
DTSTAMP:20260420T062008
CREATED:20260415T131218Z
LAST-MODIFIED:20260415T131218Z
UID:5669-1779494400-1779667199@ville-betheny.fr
SUMMARY:Penteco'basket - 2026
DESCRIPTION:La 40ème édition du tournoi de Basket organisé par l’AJB aura lieu le 23 & 24 mai 2026. \nVenez encourager les équipes de U11 à U18 filles et garçons s’opposent sur 10 terrains tout au long du week-end \n\nEntrée libre pour le public \nBuvette et restauration sur place
URL:https://ville-betheny.fr/evenement/pentecobasket-2026/
LOCATION:Gymnase Claudius Caillot\, 21 allée des Pâquerettes\, Bétheny\, 51450\, France
CATEGORIES:Association
ATTACH;FMTTYPE=image/jpeg:https://ville-betheny.fr/wp-content/uploads/2026/04/csm-2026-05-pentecobasket-betheny-affiche-62f0297cd8.avif
END:VEVENT
BEGIN:VEVENT
DTSTART;TZID=Europe/Paris:20260526T140000
DTEND;TZID=Europe/Paris:20260526T170000
DTSTAMP:20260420T062008
CREATED:20260402T130009Z
LAST-MODIFIED:20260402T130043Z
UID:5581-1779804000-1779814800@ville-betheny.fr
SUMMARY:Découverte - Les arnaques
DESCRIPTION:Notre conseiller numérique vous attend pour des ateliers conviviaux et interactifs. \nQue vous soyez débutant ou expert\, inscrivez-vous et plongez dans le monde numérique ! \nChacun apporte son matériel. \n 
URL:https://ville-betheny.fr/evenement/decouverte-les-arnaques/
LOCATION:Espace Famille\, 44 Route de Bétheny\, Bétheny\, 51450\, France
CATEGORIES:Ateliers numériques
ATTACH;FMTTYPE=image/png:https://ville-betheny.fr/wp-content/uploads/2025/08/logo-conseiller-numerique-256px.avif
END:VEVENT
BEGIN:VEVENT
DTSTART;TZID=Europe/Paris:20260601T140000
DTEND;TZID=Europe/Paris:20260603T170000
DTSTAMP:20260420T062008
CREATED:20260402T132312Z
LAST-MODIFIED:20260402T132312Z
UID:5593-1780322400-1780506000@ville-betheny.fr
SUMMARY:Apprendre une nouvelle langue en ligne
DESCRIPTION:Notre conseiller numérique vous attend pour des ateliers conviviaux et interactifs. \nQue vous soyez débutant ou expert\, inscrivez-vous et plongez dans le monde numérique ! \nChacun apporte son matériel. \nLieux :  \n\nEspace Famille – 1er juin\nMairie – 3 juin
URL:https://ville-betheny.fr/evenement/apprendre-une-nouvelle-langue-en-ligne/
CATEGORIES:Ateliers numériques
ATTACH;FMTTYPE=image/png:https://ville-betheny.fr/wp-content/uploads/2025/08/logo-conseiller-numerique-256px.avif
END:VEVENT
BEGIN:VEVENT
DTSTART;TZID=Europe/Paris:20260609T140000
DTEND;TZID=Europe/Paris:20260609T170000
DTSTAMP:20260420T062008
CREATED:20260402T130132Z
LAST-MODIFIED:20260402T130132Z
UID:5584-1781013600-1781024400@ville-betheny.fr
SUMMARY:Découverte - Internet au quotidien
DESCRIPTION:Notre conseiller numérique vous attend pour des ateliers conviviaux et interactifs. \nQue vous soyez débutant ou expert\, inscrivez-vous et plongez dans le monde numérique ! \nChacun apporte son matériel. \n 
URL:https://ville-betheny.fr/evenement/decouverte-internet-au-quotidien/
LOCATION:Espace Famille\, 44 Route de Bétheny\, Bétheny\, 51450\, France
CATEGORIES:Ateliers numériques
ATTACH;FMTTYPE=image/png:https://ville-betheny.fr/wp-content/uploads/2025/08/logo-conseiller-numerique-256px.avif
END:VEVENT
BEGIN:VEVENT
DTSTART;TZID=Europe/Paris:20260615T140000
DTEND;TZID=Europe/Paris:20260617T170000
DTSTAMP:20260420T062008
CREATED:20260402T132418Z
LAST-MODIFIED:20260402T132418Z
UID:5595-1781532000-1781715600@ville-betheny.fr
SUMMARY:Atelier numérique libre
DESCRIPTION:Notre conseiller numérique vous attend pour des ateliers conviviaux et interactifs. \nQue vous soyez débutant ou expert\, inscrivez-vous et plongez dans le monde numérique ! \nChacun apporte son matériel. \nLieux :  \n\nEspace Famille – 15 juin\nMairie – 17 juin
URL:https://ville-betheny.fr/evenement/atelier-numerique-libre/
CATEGORIES:Ateliers numériques
ATTACH;FMTTYPE=image/png:https://ville-betheny.fr/wp-content/uploads/2025/08/logo-conseiller-numerique-256px.avif
END:VEVENT
END:VCALENDAR